BEGIN:VCALENDAR
VERSION:2.0
PRODID:-//Plone.org//NONSGML plone.app.event//EN
X-WR-TIMEZONE:America/Maceio
BEGIN:VEVENT
SUMMARY:I Colloquium Word\, Sight and Sound
DTSTART;TZID=America/Maceio:20231005T020000
DTEND;TZID=America/Maceio:20231006T203000
DTSTAMP:20260423T053732Z
UID:7b87decfeebd44c5a89deec6c39ccf7c@fale.ufal.br
CONTACT:Raquel D Elboux Couto Nunes\, raquel.nunes@fale.ufal.br\, https://
 www.instagram.com/cowss_fale/
CREATED:20230913T183102Z
DESCRIPTION:O evento será presencial e ocorrerá entre os dias 05 e 06 de
  outubro de 2023\, das 14h às 20h30\, na Faculdade de Letras (FALE/UFAL).
  O encontro contará com várias modalidades de atividades\, incluindo pal
 estras\, painéis\, rodas de conversa\, oficinas\, concursos\, comunicaç
 ões orais e apresentações artísticas.
LAST-MODIFIED:20240830T152829Z
LOCATION:Faculdade de Letras (FALE/UFAL
URL:https://fale.ufal.br/extensao/eventos/2023/i-colloquium-word-sight-and
 -sound
END:VEVENT
BEGIN:VTIMEZONE
TZID:America/Maceio
X-LIC-LOCATION:America/Maceio
BEGIN:STANDARD
DTSTART:20020216T230000
TZNAME:-03
TZOFFSETFROM:-0200
TZOFFSETTO:-0300
END:STANDARD
END:VTIMEZONE
END:VCALENDAR
