BEGIN:VCALENDAR
VERSION:2.0
PRODID:-//Plone.org//NONSGML plone.app.event//EN
X-WR-TIMEZONE:America/Maceio
BEGIN:VEVENT
SUMMARY:Estratégias Criativas para Leitura Ativa - ECLA
DTSTART;TZID=America/Maceio:20240320T013000
DTEND;TZID=America/Maceio:20240320T043000
DTSTAMP:20260420T015544Z
UID:067509fe735f41528c8f0d3af496312f@fale.ufal.br
CONTACT:Raquel D Elboux Couto Nunes\, raquel.nunes@fale.ufal.br\, https://
 docs.google.com/forms/d/e/1FAIpQLSfDWbI9IUEgnYKJ01DDwIYN2O4JjJ-R21zT_lZQrd
 exiEgxFA/viewform
CREATED:20240311T204819Z
DESCRIPTION:A disciplina Atividades Curriculares de Extensão 1-A tem por 
 objetivos o planejamento e a oferta de cursos de natureza específica. Na 
 parte A\, os/as discentes estudaram a abordagem ESP (English for Specific 
 Purposes ou Inglês Instrumental) e prepararam atividades práticas. A tur
 ma do vespertino\, que tem 17 alunos\, elaborou material didático para mi
 nistrar uma oficina com duração de três horas\, com foco em estratégia
 s de leitura em língua inglesa\, sob orientação da Profa. Dra. Raquel D
 . C. Nunes. O evento tem como público alvo a comunidade acadêmica e a co
 munidade em geral.
LAST-MODIFIED:20240830T153023Z
LOCATION:Mini auditório Heliônia Ceres - Faculdade de Letras - FALE/UFAL
URL:https://fale.ufal.br/extensao/eventos/2024/estrategias-criativas-para-
 leitura-ativa-ecla
END:VEVENT
BEGIN:VTIMEZONE
TZID:America/Maceio
X-LIC-LOCATION:America/Maceio
BEGIN:STANDARD
DTSTART:20020216T230000
TZNAME:-03
TZOFFSETFROM:-0200
TZOFFSETTO:-0300
END:STANDARD
END:VTIMEZONE
END:VCALENDAR
