BEGIN:VCALENDAR
VERSION:2.0
PRODID:-//Plone.org//NONSGML plone.app.event//EN
X-WR-TIMEZONE:America/Maceio
BEGIN:VEVENT
SUMMARY:Soirée Française 2024 – Enchanté! Le Monde en Français
DTSTART;TZID=America/Maceio:20241121T143000
DTEND;TZID=America/Maceio:20241121T200000
DTSTAMP:20260420T055942Z
UID:3f46218b5787440ea8cebe0d3dd5c716@fale.ufal.br
CONTACT:https://www.instagram.com/soireefrancaiseufal/
CREATED:20241118T214604Z
LAST-MODIFIED:20241118T215032Z
LOCATION:Hall da FALE
URL:https://fale.ufal.br/extensao/eventos/2024/soiree-francaise-2024-encha
 nte-le-monde-en-francais
END:VEVENT
BEGIN:VTIMEZONE
TZID:America/Maceio
X-LIC-LOCATION:America/Maceio
BEGIN:STANDARD
DTSTART:20020216T230000
TZNAME:-03
TZOFFSETFROM:-0200
TZOFFSETTO:-0300
END:STANDARD
END:VTIMEZONE
END:VCALENDAR
