BEGIN:VCALENDAR
VERSION:2.0
PRODID:-//Plone.org//NONSGML plone.app.event//EN
X-WR-TIMEZONE:America/Maceio
BEGIN:VEVENT
SUMMARY:III SEMINÁRIO DE EXTENSÃO DA FALE Extensão Universitária: um a
 to de resistência.
DTSTART;TZID=America/Maceio:20190618T090000
DTEND;TZID=America/Maceio:20190618T213000
DTSTAMP:20260420T165119Z
UID:de189bdc63564b8994806880474a3371@fale.ufal.br
CONTACT:seminarioextensaofale@gmail.com
CREATED:20190530T134649Z
DESCRIPTION:Extensão Fale III Seminário\n
LAST-MODIFIED:20200920T231600Z
LOCATION:Faculdade de Letras\, Campus A.C. Simões - UFAL
URL:https://fale.ufal.br/extensao/eventos/iii-seminario-de-extensao-da-fal
 e-extensao-universitaria-um-ato-de-resistencia
END:VEVENT
BEGIN:VTIMEZONE
TZID:America/Maceio
X-LIC-LOCATION:America/Maceio
BEGIN:STANDARD
DTSTART:20020216T230000
TZNAME:-03
TZOFFSETFROM:-0200
TZOFFSETTO:-0300
END:STANDARD
END:VTIMEZONE
END:VCALENDAR
