BEGIN:VCALENDAR
VERSION:2.0
PRODID:-//Plone.org//NONSGML plone.app.event//EN
X-WR-TIMEZONE:America/Maceio
BEGIN:VEVENT
SUMMARY:Mare&sal para além dos 20 anos: pesquisas\, perspectivas e outras
  histórias
DTSTART;TZID=America/Maceio:20220823T100000
DTSTAMP:20260420T151223Z
UID:e39a0d994a7c4022bc5f30e779109e9a@fale.ufal.br
CONTACT:https://www.instagram.com/mare.e.sal/
CREATED:20220729T135032Z
LAST-MODIFIED:20220801T211746Z
LOCATION:Youtube
URL:https://fale.ufal.br/extensao/eventos/mare-sal-para-alem-dos-20-anos-p
 esquisas-perspectivas-e-outras-historias
END:VEVENT
BEGIN:VTIMEZONE
TZID:America/Maceio
X-LIC-LOCATION:America/Maceio
BEGIN:STANDARD
DTSTART:20020216T230000
TZNAME:-03
TZOFFSETFROM:-0200
TZOFFSETTO:-0300
END:STANDARD
END:VTIMEZONE
END:VCALENDAR
