BEGIN:VCALENDAR
VERSION:2.0
PRODID:-//Plone.org//NONSGML plone.app.event//EN
X-WR-TIMEZONE:America/Maceio
BEGIN:VEVENT
SUMMARY:Aula Inaugural do PROFLETRAS FALE-UFAL - TURMA 11
DTSTART;TZID=America/Maceio:20250411T140000
DTEND;TZID=America/Maceio:20250411T170000
DTSTAMP:20260420T233702Z
UID:292eb62f0d9646a3b7897e2b10dc0e33@fale.ufal.br
CONTACT:secretaria.profletras@fale.ufal.br
CREATED:20250410T204929Z
LAST-MODIFIED:20250604T132543Z
LOCATION:Miniauditório Heliônia Ceres - FALE-UFAL
URL:https://fale.ufal.br/pos-graduacao/mestrado-profissional-em-letras/ins
 titucional/eventos/aula-inaugural-do-profletras-fale-ufal-turma-11
END:VEVENT
BEGIN:VTIMEZONE
TZID:America/Maceio
X-LIC-LOCATION:America/Maceio
BEGIN:STANDARD
DTSTART:20020216T230000
TZNAME:-03
TZOFFSETFROM:-0200
TZOFFSETTO:-0300
END:STANDARD
END:VTIMEZONE
END:VCALENDAR
