BEGIN:VCALENDAR
VERSION:2.0
PRODID:-//Plone.org//NONSGML plone.app.event//EN
X-WR-TIMEZONE:America/Maceio
BEGIN:VEVENT
SUMMARY:Evento - VI SEPE - Seminário de Pesquisa do Profletras - UFAL
DTSTART;TZID=America/Maceio:20231124T090000
DTEND;TZID=America/Maceio:20231201T180000
DTSTAMP:20260420T152625Z
UID:aac9686c849b4bb9bf11822c4a61f468@fale.ufal.br
CONTACT:Fabiana Pincho de Oliveira\, 3214-1640\, secretaria.profletras@fal
 e.ufal.br\, https://fale.ufal.br/pos-graduacao/mestrado-profissional-em-le
 tras/informes/vi-sepe-seminario-de-pesquisa-do-profletras-ufal-1
CREATED:20231116T215819Z
LAST-MODIFIED:20250604T132531Z
LOCATION:Miniauditório Heliônia Ceres - FALE
URL:https://fale.ufal.br/pos-graduacao/mestrado-profissional-em-letras/ins
 titucional/eventos/vi-sepe-seminario-de-pesquisa-do-profletras-ufal
END:VEVENT
BEGIN:VTIMEZONE
TZID:America/Maceio
X-LIC-LOCATION:America/Maceio
BEGIN:STANDARD
DTSTART:20020216T230000
TZNAME:-03
TZOFFSETFROM:-0200
TZOFFSETTO:-0300
END:STANDARD
END:VTIMEZONE
END:VCALENDAR
